BEGIN:VCALENDAR
VERSION:2.0
PRODID:-//Mouvement des Entreprises du Maroc - ECPv6.15.11//NONSGML v1.0//EN
CALSCALE:GREGORIAN
METHOD:PUBLISH
X-ORIGINAL-URL:https://mouvementdesentreprisesdumaroc.com
X-WR-CALDESC:Évènements pour Mouvement des Entreprises du Maroc
REFRESH-INTERVAL;VALUE=DURATION:PT1H
X-Robots-Tag:noindex
X-PUBLISHED-TTL:PT1H
BEGIN:VTIMEZONE
TZID:UTC
BEGIN:STANDARD
TZOFFSETFROM:+0000
TZOFFSETTO:+0000
TZNAME:UTC
DTSTART:20240101T000000
END:STANDARD
END:VTIMEZONE
BEGIN:VEVENT
DTSTART;TZID=UTC:20251212T000000
DTEND;TZID=UTC:20251212T000000
DTSTAMP:20260419T133319
CREATED:20250723T205812Z
LAST-MODIFIED:20250723T205812Z
UID:7183-1765497600-1765497600@mouvementdesentreprisesdumaroc.com
SUMMARY:Formations - Plan d'action 2026
DESCRIPTION:
URL:https://mouvementdesentreprisesdumaroc.com/event/formations-plan-daction-2026-3/
END:VEVENT
BEGIN:VEVENT
DTSTART;TZID=UTC:20251211T000000
DTEND;TZID=UTC:20251211T000000
DTSTAMP:20260419T133319
CREATED:20250723T205812Z
LAST-MODIFIED:20250723T205812Z
UID:7182-1765411200-1765411200@mouvementdesentreprisesdumaroc.com
SUMMARY:Formations - Plan d'action 2026
DESCRIPTION:
URL:https://mouvementdesentreprisesdumaroc.com/event/formations-plan-daction-2026-2/
END:VEVENT
BEGIN:VEVENT
DTSTART;TZID=UTC:20251209T000000
DTEND;TZID=UTC:20251209T000000
DTSTAMP:20260419T133319
CREATED:20250723T205812Z
LAST-MODIFIED:20250723T205812Z
UID:7181-1765238400-1765238400@mouvementdesentreprisesdumaroc.com
SUMMARY:Formations - Plan d'action 2026
DESCRIPTION:
URL:https://mouvementdesentreprisesdumaroc.com/event/formations-plan-daction-2026/
END:VEVENT
BEGIN:VEVENT
DTSTART;TZID=UTC:20251206T000000
DTEND;TZID=UTC:20251206T000000
DTSTAMP:20260419T133319
CREATED:20250723T205812Z
LAST-MODIFIED:20250723T205812Z
UID:7180-1764979200-1764979200@mouvementdesentreprisesdumaroc.com
SUMMARY:Forum Impact PME Maroc
DESCRIPTION:
URL:https://mouvementdesentreprisesdumaroc.com/event/forum-impact-pme-maroc/
END:VEVENT
BEGIN:VEVENT
DTSTART;TZID=UTC:20251128T000000
DTEND;TZID=UTC:20251128T000000
DTSTAMP:20260419T133319
CREATED:20250723T205812Z
LAST-MODIFIED:20250723T205812Z
UID:7179-1764288000-1764288000@mouvementdesentreprisesdumaroc.com
SUMMARY:Permanence - Difficultés RH
DESCRIPTION:
URL:https://mouvementdesentreprisesdumaroc.com/event/permanence-difficultes-rh/
END:VEVENT
BEGIN:VEVENT
DTSTART;TZID=UTC:20251121T000000
DTEND;TZID=UTC:20251121T000000
DTSTAMP:20260419T133319
CREATED:20250723T205757Z
LAST-MODIFIED:20250723T205757Z
UID:7178-1763683200-1763683200@mouvementdesentreprisesdumaroc.com
SUMMARY:Formations - Création d'entreprise
DESCRIPTION:
URL:https://mouvementdesentreprisesdumaroc.com/event/formations-creation-dentreprise-3/
END:VEVENT
BEGIN:VEVENT
DTSTART;TZID=UTC:20251120T000000
DTEND;TZID=UTC:20251120T000000
DTSTAMP:20260419T133319
CREATED:20250723T205757Z
LAST-MODIFIED:20250723T205757Z
UID:7177-1763596800-1763596800@mouvementdesentreprisesdumaroc.com
SUMMARY:Formations - Création d'entreprise
DESCRIPTION:
URL:https://mouvementdesentreprisesdumaroc.com/event/formations-creation-dentreprise-2/
END:VEVENT
BEGIN:VEVENT
DTSTART;TZID=UTC:20251118T000000
DTEND;TZID=UTC:20251118T000000
DTSTAMP:20260419T133319
CREATED:20250723T205757Z
LAST-MODIFIED:20250723T205757Z
UID:7176-1763424000-1763424000@mouvementdesentreprisesdumaroc.com
SUMMARY:Formations - Création d'entreprise
DESCRIPTION:
URL:https://mouvementdesentreprisesdumaroc.com/event/formations-creation-dentreprise/
END:VEVENT
BEGIN:VEVENT
DTSTART;TZID=UTC:20251115T000000
DTEND;TZID=UTC:20251115T000000
DTSTAMP:20260419T133319
CREATED:20250723T205757Z
LAST-MODIFIED:20250723T205757Z
UID:7175-1763164800-1763164800@mouvementdesentreprisesdumaroc.com
SUMMARY:Newsletter - TPE innovantes
DESCRIPTION:
URL:https://mouvementdesentreprisesdumaroc.com/event/newsletter-tpe-innovantes/
END:VEVENT
BEGIN:VEVENT
DTSTART;TZID=UTC:20251114T000000
DTEND;TZID=UTC:20251114T000000
DTSTAMP:20260419T133319
CREATED:20250723T205757Z
LAST-MODIFIED:20250723T205757Z
UID:7174-1763078400-1763078400@mouvementdesentreprisesdumaroc.com
SUMMARY:Formations - Prévention RPS
DESCRIPTION:
URL:https://mouvementdesentreprisesdumaroc.com/event/formations-prevention-rps-3/
END:VEVENT
BEGIN:VEVENT
DTSTART;TZID=UTC:20251113T000000
DTEND;TZID=UTC:20251113T000000
DTSTAMP:20260419T133319
CREATED:20250723T205742Z
LAST-MODIFIED:20250723T205742Z
UID:7173-1762992000-1762992000@mouvementdesentreprisesdumaroc.com
SUMMARY:Formations - Prévention RPS
DESCRIPTION:
URL:https://mouvementdesentreprisesdumaroc.com/event/formations-prevention-rps-2/
END:VEVENT
BEGIN:VEVENT
DTSTART;TZID=UTC:20251111T000000
DTEND;TZID=UTC:20251111T000000
DTSTAMP:20260419T133319
CREATED:20250723T205742Z
LAST-MODIFIED:20250723T205742Z
UID:7172-1762819200-1762819200@mouvementdesentreprisesdumaroc.com
SUMMARY:Formations - Prévention RPS
DESCRIPTION:
URL:https://mouvementdesentreprisesdumaroc.com/event/formations-prevention-rps/
END:VEVENT
BEGIN:VEVENT
DTSTART;TZID=UTC:20251107T000000
DTEND;TZID=UTC:20251107T000000
DTSTAMP:20260419T133319
CREATED:20250723T205742Z
LAST-MODIFIED:20250723T205742Z
UID:7171-1762473600-1762473600@mouvementdesentreprisesdumaroc.com
SUMMARY:Formations - Gestion financière
DESCRIPTION:
URL:https://mouvementdesentreprisesdumaroc.com/event/formations-gestion-financiere-3/
END:VEVENT
BEGIN:VEVENT
DTSTART;TZID=UTC:20251106T000000
DTEND;TZID=UTC:20251106T000000
DTSTAMP:20260419T133319
CREATED:20250723T205742Z
LAST-MODIFIED:20250723T205742Z
UID:7170-1762387200-1762387200@mouvementdesentreprisesdumaroc.com
SUMMARY:Formations - Gestion financière
DESCRIPTION:
URL:https://mouvementdesentreprisesdumaroc.com/event/formations-gestion-financiere-2/
END:VEVENT
BEGIN:VEVENT
DTSTART;TZID=UTC:20251104T000000
DTEND;TZID=UTC:20251104T000000
DTSTAMP:20260419T133319
CREATED:20250723T205742Z
LAST-MODIFIED:20250723T205742Z
UID:7169-1762214400-1762214400@mouvementdesentreprisesdumaroc.com
SUMMARY:Formations - Gestion financière
DESCRIPTION:
URL:https://mouvementdesentreprisesdumaroc.com/event/formations-gestion-financiere/
END:VEVENT
BEGIN:VEVENT
DTSTART;TZID=UTC:20251101T000000
DTEND;TZID=UTC:20251101T000000
DTSTAMP:20260419T133319
CREATED:20250723T205726Z
LAST-MODIFIED:20250723T205726Z
UID:7163-1761955200-1761955200@mouvementdesentreprisesdumaroc.com
SUMMARY:Rencontre mensuelle - Innovation
DESCRIPTION:
URL:https://mouvementdesentreprisesdumaroc.com/event/rencontre-mensuelle-innovation/
END:VEVENT
BEGIN:VEVENT
DTSTART;TZID=UTC:20251025T093000
DTEND;TZID=UTC:20251025T193000
DTSTAMP:20260419T133319
CREATED:20251020T191326Z
LAST-MODIFIED:20251020T192324Z
UID:7218-1761384600-1761420600@mouvementdesentreprisesdumaroc.com
SUMMARY:Les Financements des Petites Entreprises au Maroc : Défis et Solutions
DESCRIPTION:  \n  \n \nChers membres\, chers amis du Mouvement des Entreprises du Maroc\, \nNous sommes à quelques jours de notre rencontre mensuelle des entrepreneurs\, qui se tiendra ce samedi 25 octobre 2025 à 9h30\, au 81 rue Al Banafsaj\, et en visioconférence pour ceux qui ne peuvent se déplacer.\n(🔗 Le lien de connexion sera envoyé ce vendredi.) \nCette Matinale sera consacrée à un sujet crucial pour nos petites et très petites entreprises : \n\n« Les financements des petites entreprises au Maroc : les subventions de l’État et les délais de paiement » \n\nC’est l’occasion de :\n✅ Partager vos expériences et difficultés sur l’accès aux financements\n✅ Échanger entre dirigeants d’entreprises de toutes régions\n✅ Identifier ensemble des pistes concrètes d’action et de plaidoyer \n👉 Votre participation est essentielle pour faire entendre la voix des entrepreneurs et renforcer notre réseau solidaire. \nNous comptons sur votre présence\, en salle ou à distance\, pour faire de cette rencontre un moment fort d’échanges et d’inspiration. \nÀ très bientôt\,\nAhmed BOUZIDI\nPrésident – Le Mouvement des Entreprises du Maroc
URL:https://mouvementdesentreprisesdumaroc.com/event/les-financements-des-petites-entreprises-au-maroc/
LOCATION:Casablanca\, 81 rue Al Banafsaj\, Casablanca
END:VEVENT
BEGIN:VEVENT
DTSTART;TZID=UTC:20250926T000000
DTEND;TZID=UTC:20250926T000000
DTSTAMP:20260419T133319
CREATED:20250723T205726Z
LAST-MODIFIED:20250723T205726Z
UID:7162-1758844800-1758844800@mouvementdesentreprisesdumaroc.com
SUMMARY:Permanence - Questions juridiques
DESCRIPTION:
URL:https://mouvementdesentreprisesdumaroc.com/event/permanence-questions-juridiques/
END:VEVENT
BEGIN:VEVENT
DTSTART;TZID=UTC:20250919T000000
DTEND;TZID=UTC:20250919T000000
DTSTAMP:20260419T133319
CREATED:20250723T205726Z
LAST-MODIFIED:20250723T205726Z
UID:7161-1758240000-1758240000@mouvementdesentreprisesdumaroc.com
SUMMARY:Formations - Digitalisation des TPE
DESCRIPTION:
URL:https://mouvementdesentreprisesdumaroc.com/event/formations-digitalisation-des-tpe-3/
END:VEVENT
BEGIN:VEVENT
DTSTART;TZID=UTC:20250918T000000
DTEND;TZID=UTC:20250918T000000
DTSTAMP:20260419T133319
CREATED:20250723T205725Z
LAST-MODIFIED:20250723T205726Z
UID:7160-1758153600-1758153600@mouvementdesentreprisesdumaroc.com
SUMMARY:Formations - Digitalisation des TPE
DESCRIPTION:
URL:https://mouvementdesentreprisesdumaroc.com/event/formations-digitalisation-des-tpe-2/
END:VEVENT
BEGIN:VEVENT
DTSTART;TZID=UTC:20250916T000000
DTEND;TZID=UTC:20250916T000000
DTSTAMP:20260419T133319
CREATED:20250723T205725Z
LAST-MODIFIED:20250723T205726Z
UID:7159-1757980800-1757980800@mouvementdesentreprisesdumaroc.com
SUMMARY:Formations - Digitalisation des TPE
DESCRIPTION:
URL:https://mouvementdesentreprisesdumaroc.com/event/formations-digitalisation-des-tpe/
END:VEVENT
BEGIN:VEVENT
DTSTART;TZID=UTC:20250915T000000
DTEND;TZID=UTC:20250915T000000
DTSTAMP:20260419T133319
CREATED:20250723T205724Z
LAST-MODIFIED:20250723T205724Z
UID:7158-1757894400-1757894400@mouvementdesentreprisesdumaroc.com
SUMMARY:Newsletter - Dossier spécial
DESCRIPTION:
URL:https://mouvementdesentreprisesdumaroc.com/event/newsletter-dossier-special/
END:VEVENT
BEGIN:VEVENT
DTSTART;TZID=UTC:20250913T090000
DTEND;TZID=UTC:20250913T230000
DTSTAMP:20260419T133319
CREATED:20250902T114058Z
LAST-MODIFIED:20250902T114058Z
UID:7210-1757754000-1757804400@mouvementdesentreprisesdumaroc.com
SUMMARY:SAVE THE DATE – Rentrée des Entrepreneurs
DESCRIPTION:Les très petites\, petites et moyennes entreprises (TPME) sont le socle de l’économie marocaine. Pourtant\, elles font face à des défis majeurs : financement\, croissance\, export\, adaptation aux réformes…\nLe Mouvement des Entreprises du Maroc vous invite à une matinale exceptionnelle pour : \n– Faire un état des lieux précis des TPME au Maroc \n– Réaliser un diagnostic participatif en écoutant vos réalités\, difficultés et besoins \n– Débattre d’un sujet clé actuel : « Libéralisation du dirham : opportunité historique ou piège économique ? » et préparer ensemble nos entreprises à ce changement \nCette matinale est une occasion unique pour notre association de poser les bases d’un accompagnement solide et durable\, au service de tous nos entrepreneurs. \n📅 Réservez cette date : samedi 13 septembre 2025\n🕘 De 9h00 à 11h30 – lieu et détails à venir \nOrganisé par le Mouvement des Entreprises du Maroc \nVotre présence et votre voix sont essentielles pour faire entendre les besoins des TPME et construire ensemble des solutions concrètes. \nNous comptons sur votre mobilisation active ! \n 
URL:https://mouvementdesentreprisesdumaroc.com/event/rentree-des-entrepreneurs-2/
ATTACH;FMTTYPE=image/jpeg:https://mouvementdesentreprisesdumaroc.com/wp-content/uploads/2025/09/Rentree-des-Entrepreneurs-scaled.jpg
END:VEVENT
BEGIN:VEVENT
DTSTART;TZID=UTC:20250912T000000
DTEND;TZID=UTC:20250912T000000
DTSTAMP:20260419T133319
CREATED:20250723T205724Z
LAST-MODIFIED:20250723T205724Z
UID:7157-1757635200-1757635200@mouvementdesentreprisesdumaroc.com
SUMMARY:Formations - RH & organisation interne
DESCRIPTION:
URL:https://mouvementdesentreprisesdumaroc.com/event/formations-rh-organisation-interne-3/
END:VEVENT
BEGIN:VEVENT
DTSTART;TZID=UTC:20250911T000000
DTEND;TZID=UTC:20250911T000000
DTSTAMP:20260419T133319
CREATED:20250723T205723Z
LAST-MODIFIED:20250723T205723Z
UID:7156-1757548800-1757548800@mouvementdesentreprisesdumaroc.com
SUMMARY:Formations - RH & organisation interne
DESCRIPTION:
URL:https://mouvementdesentreprisesdumaroc.com/event/formations-rh-organisation-interne-2/
END:VEVENT
BEGIN:VEVENT
DTSTART;TZID=UTC:20250909T000000
DTEND;TZID=UTC:20250909T000000
DTSTAMP:20260419T133319
CREATED:20250723T205723Z
LAST-MODIFIED:20250723T205723Z
UID:7155-1757376000-1757376000@mouvementdesentreprisesdumaroc.com
SUMMARY:Formations - RH & organisation interne
DESCRIPTION:
URL:https://mouvementdesentreprisesdumaroc.com/event/formations-rh-organisation-interne/
END:VEVENT
END:VCALENDAR